Workbook

Sheet NH17-18 hiep
A1: TT | B1: HK1 | C1: số lớp | D1: Sĩ số | E1: Nhóm | F1: Đv | G1: Kl thực | H1: Hiệp | I1: Huân | J1: Thì | K1: Hòa | L1: Trí
C2: =SUM(C3:C67) -> 14 | D2: =SUM(D3:D67) -> 674 | E2: =SUM(E3:E67) -> 44 | F2: =SUM(F3:F67) -> 1725 | G2: =G3+G19+G27+G36+G42+G51+G59+G68 -> 2744 | H2: =SUM(H4:H69) -> 240 | I2: =SUM(I4:I69) -> 274 | J2: =SUM(J4:J69) -> 310 | K2: =SUM(K4:K69) -> 390 | L2: =SUM(L4:L69) -> 270
B3: 15 TC-9+3-TCCN-HÒA | C3: 1 | D3: 6 | E3: 1 | G3: =SUM(G4:G18) -> 190
A4: 1 | B4: Thiết bị trao đổi nhiệt và mạng nhiệt-2 | F4: 30 | G4: 30
A5: 2 | B5: Cơ lưu chất-2 | F5: 30 | G5: 30
A6: 3 | B6: Kỹ thuật ĐHKK -2 | F6: 30 | G6: 30 | H6: 30
A7: 4 | B7: Tự động hóa HTL-2 | F7: 30 | G7: 30 | K7: 30
A8: 5 | B8: Kỹ thuật điện tử-2 | F8: 30 | G8: 30 | I8: 30
A9: 6 | B9: Kỹ thuật sấy-2 | F9: 30
A10: 7 | B10: Bơm, quạt, máy nén-2 | F10: 30
A11: 8 | B11: Vật liệu kỹ thuật nhiệt-2 | F11: 30
A12: 9 | B12: AutoCAD-2 | F12: 30
A13: 10 | B13: Đo lường Cơ-Điện- Nhiệt-2 | F13: 30
A14: 11 | B14: Thực tập Trang bị điện HTL-2 | E14: 1 | F14: 60
A15: 12 | B15: TT máy lạnh CN-2 | E15: 1 | F15: 60 | G15: 40 | I15: 40
A16: 13 | B16: Anh văn chuyên ngành-30
A17: 14 | B17: Kỹ năng giao tiếp-30
A18: 15 | B18: Cơ ứng dụng-30
B19: 15CD 1,2-2L-(56-57)-VIẾT- KHOA | C19: 2 | D19: 113 | E19: 4 | G19: =SUM(G20:G25) -> 900
A20: 1 | B20: KT Sấy -2 | F20: 30 | G20: 60
A21: 2 | B21: Vận hành & Bảo trì HTL- 2 | F21: 30 | G21: 60
A22: 3 | B22: Xây dựng trạm lạnh-2 | F22: 30 | G22: 60
A23: 4 | B23: TT Trang bị điện HTL-3 | E23: 4 | F23: 90 | G23: 240 | K23: 120
A24: 5 | B24: TT Vận hành bảo trì & SC HTL công nghiệp-3 | E24: 4 | F24: 90 | G24: 240 | I24: 120 | J24: 120
A25: 6 | B25: TT Lắp đặt HTL-3 | E25: 4 | F25: 90 | G25: 240 | L25: 120
A26: 7 | B26: Anh văn chuyên ngành-2
B27: 15 TCN-LĐL-9+3-1L- THÌ | C27: 1 | D27: 31 | E27: 1 | G27: =SUM(G28:G34) -> 274
A28: 1 | B28: Điện tử chuyên ngành-60 (10-47-3) | F28: 60
A29: 2 | B29: Đo lường điện lạnh-45(20-23-2) | F29: 45 | G29: 45
A30: 3 | B30: Vật liệu điện lạnh-30 (26-2-2) | F30: 30 | G30: 30 | K30: 30
A31: 4 | B31: Bơm quạt máy nén-30 (18-10-2) | F31: 30 | G31: 30 | H31: 30
A32: 5 | B32: Auto cad-30 (14-15-1) | F32: 30 | G32: 24 | I32: 24
A33: 6 | B33: Lắp đặt hệ thống máy lạnh dân dụng-150 (40-103-7) | F33: 150 | G33: 120 | J33: 120
A34: 7 | B34: Điều hòa không khí ôtô-30 (13-15-2) | F34: 30 | G34: 25 | J34: 25
A35: 8 | B35: Chính trị , GD Quốc phòng-An ninh
B36: 16 TCN-LĐL-9+3-1L-HẬU | C36: 1 | D36: 58 | E36: 2 | G36: =SUM(G37:G38) -> 135
A37: 1 | B37: Máy điện- 60 (13-45-2) | F37: 60 | G37: 75
A38: 2 | B38: Cơ sở kỹ thuật nhiệt lạnh- 60 (40-17-3) | F38: 60 | G38: 60
A39: 3 | B39: Hàn cơ bản - 60 | E39: 2
A40: 4 | B40: T105-L60-H60-V60
...

Sheet tổng kết KL
A3: Diễn giải | B3: số lớp | C3: Sĩ số | D3: Nhóm | E3: Đvht | F3: Kl thực | G3: Hiệp | H3: Huân | I3: Thì | J3: Hòa | K3: Trí | L3: Hào | M3: Quý | N3: Viết | O3: Khoa | P3: Quang | Q3: Liêm | R3: Tổng của Khoa
A4: Học phần HK 1 | G4: ='NH17-18 hiep'!H2 -> 240 | H4: ='NH17-18 hiep'!I2 -> 274 | I4: ='NH17-18 hiep'!J2 -> 310 | J4: ='NH17-18 hiep'!K2 -> 390 | K4: ='NH17-18 hiep'!L2 -> 270 | L4: ='NH17-18 hiep'!#REF! -> #REF! | M4: ='NH17-18 hiep'!#REF! -> #REF! | N4: ='NH17-18 hiep'!#REF! -> #REF! | O4: ='NH17-18 hiep'!#REF! -> #REF! | P4: ='NH17-18 hiep'!#REF! -> #REF! | Q4: ='NH17-18 hiep'!#REF! -> #REF! | R4: =SUM(G4:Q4) -> #REF!
A5: Học phần HK 2 | G5: ='NH17-18 hiep'!#REF! -> #REF! | H5: ='NH17-18 hiep'!#REF! -> #REF! | I5: ='NH17-18 hiep'!#REF! -> #REF! | J5: ='NH17-18 hiep'!#REF! -> #REF! | K5: ='NH17-18 hiep'!#REF! -> #REF! | L5: ='NH17-18 hiep'!#REF! -> #REF! | M5: ='NH17-18 hiep'!#REF! -> #REF! | N5: ='NH17-18 hiep'!#REF! -> #REF! | ... Q5: ='NH17-18 hiep'!#REF! -> #REF! | R5: =SUM(G5:Q5) -> #REF!
A6: Cộng cả năm | G6: =SUM(G4:G5) -> #REF! | H6: =SUM(H4:H5) -> #REF! | I6: =SUM(I4:I5) -> #REF! | J6: =SUM(J4:J5) -> #REF! | K6: =SUM(K4:K5) -> #REF! | L6: =SUM(L4:L5) -> #REF! | M6: =SUM(M4:M5) -> #REF! | N6: =SUM(N4:N5) -> #REF! | ... Q6: =SUM(Q4:Q5) -> #REF! | R6: =SUM(G6:Q6) -> #REF!
A8: năm trước 16-17 | G8: -86 | H8: -67 | I8: -55 | J8: -67 | K8: -122 | L8: -122 | M8: -122 | N8: -122 | O8: -122 | P8: -122 | Q8: -122
G10: tổng | H10: giảm 15% | V10: nếu được
G11: 450 | H11: =G11*85% -> 382.5 | T11: Hào | U11: 0 | V11: -6.5
T12: Hiệp | U12: 56 | V12: -25
G13: - LỚP 15TCCN : ĐÃ XẾP GHÉP CÁC HP, CÒN CÁC HP CÒN LẠI, ANH CHUYỂN CHO CÁC KHOA LIÊN QUAN ĐỂ ĐIỀN VÀO. | T13: Hòa | U13: 0 | V13: -260.6 | AA13: ok
T14: Khoa | U14: 0 | V14: -61.5 | AA14: ok
T15: Quý | U15: 0 | V15: -104.8 | AA15: ok
T16: Huân | U16: 0 | V16: -19.3
T17: Quang | U17: 0 | V17: -112.3
T18: Viết | U18: 66.7 | V18: 88.8
T19: Thì | U19: 0 | V19: -117.2
T20: Trí | U20: 40 | V20: -109
T21: Liêm | U21: 0 | V21: 36
